BEGIN:VCALENDAR
VERSION:2.0
PRODID:-//Midland Ancestors - ECPv6.15.15//NONSGML v1.0//EN
CALSCALE:GREGORIAN
METHOD:PUBLISH
X-WR-CALNAME:Midland Ancestors
X-ORIGINAL-URL:https://midland-ancestors.uk
X-WR-CALDESC:Events for Midland Ancestors
REFRESH-INTERVAL;VALUE=DURATION:PT1H
X-Robots-Tag:noindex
X-PUBLISHED-TTL:PT1H
BEGIN:VTIMEZONE
TZID:Europe/London
BEGIN:DAYLIGHT
TZOFFSETFROM:+0000
TZOFFSETTO:+0100
TZNAME:BST
DTSTART:20250330T010000
END:DAYLIGHT
BEGIN:STANDARD
TZOFFSETFROM:+0100
TZOFFSETTO:+0000
TZNAME:GMT
DTSTART:20251026T010000
END:STANDARD
BEGIN:DAYLIGHT
TZOFFSETFROM:+0000
TZOFFSETTO:+0100
TZNAME:BST
DTSTART:20260329T010000
END:DAYLIGHT
BEGIN:STANDARD
TZOFFSETFROM:+0100
TZOFFSETTO:+0000
TZNAME:GMT
DTSTART:20261025T010000
END:STANDARD
BEGIN:DAYLIGHT
TZOFFSETFROM:+0000
TZOFFSETTO:+0100
TZNAME:BST
DTSTART:20270328T010000
END:DAYLIGHT
BEGIN:STANDARD
TZOFFSETFROM:+0100
TZOFFSETTO:+0000
TZNAME:GMT
DTSTART:20271031T010000
END:STANDARD
END:VTIMEZONE
BEGIN:VEVENT
DTSTART;TZID=Europe/London:20260519T193000
DTEND;TZID=Europe/London:20260519T213000
DTSTAMP:20260422T112011
CREATED:20250415T105500Z
LAST-MODIFIED:20251102T132314Z
UID:16335-1779219000-1779226200@midland-ancestors.uk
SUMMARY:Stourbridge Group - The Magic of Glass
DESCRIPTION:The Magic of Glass\nSpeaker: Dr Kate Round \n \n  \nIn ancient times glass-making was viewed as mysterious and magical\, it was alchemy\, and referred to as ‘The Art Feat and Mystery of Glass’. Sand subjected to high temperatures became jewel-like material that could be moulded into vessels\, magic indeed! \nIt has clever physical properties\, it can easily be recycled and it does not deteriorate with age or use. The chemical properties of glass make it versatile and at the ‘cutting-edge’ of technology. \nThis talk looks at the colourful world of glass\, how is made and how we can change it physically and chemically to suit its use. From bottles to bridges\, optical glass to architecture; oven-ware to radiation shields\, and from bending light to bendable glass. \n \nDr Kate Round \n  \n  \n  \n 
URL:https://midland-ancestors.uk/event/stourbridge-group-the-magic-of-glass/
LOCATION:Stourbridge\, St. Peter's Church Hall\, Pedmore\, West Midlands\, DY9 0SW\, United Kingdom
CATEGORIES:Public,Stourbridge Meetings
ORGANIZER;CN="Paul Burkitt":MAILTO:p.burkitt@mid-anc.uk
END:VEVENT
END:VCALENDAR