BEGIN:VCALENDAR
VERSION:2.0
PRODID:-//Midland Ancestors - ECPv6.15.15//NONSGML v1.0//EN
CALSCALE:GREGORIAN
METHOD:PUBLISH
X-ORIGINAL-URL:https://midland-ancestors.uk
X-WR-CALDESC:Events for Midland Ancestors
REFRESH-INTERVAL;VALUE=DURATION:PT1H
X-Robots-Tag:noindex
X-PUBLISHED-TTL:PT1H
BEGIN:VTIMEZONE
TZID:Europe/London
BEGIN:DAYLIGHT
TZOFFSETFROM:+0000
TZOFFSETTO:+0100
TZNAME:BST
DTSTART:20230326T010000
END:DAYLIGHT
BEGIN:STANDARD
TZOFFSETFROM:+0100
TZOFFSETTO:+0000
TZNAME:GMT
DTSTART:20231029T010000
END:STANDARD
BEGIN:DAYLIGHT
TZOFFSETFROM:+0000
TZOFFSETTO:+0100
TZNAME:BST
DTSTART:20240331T010000
END:DAYLIGHT
BEGIN:STANDARD
TZOFFSETFROM:+0100
TZOFFSETTO:+0000
TZNAME:GMT
DTSTART:20241027T010000
END:STANDARD
BEGIN:DAYLIGHT
TZOFFSETFROM:+0000
TZOFFSETTO:+0100
TZNAME:BST
DTSTART:20250330T010000
END:DAYLIGHT
BEGIN:STANDARD
TZOFFSETFROM:+0100
TZOFFSETTO:+0000
TZNAME:GMT
DTSTART:20251026T010000
END:STANDARD
END:VTIMEZONE
BEGIN:VEVENT
DTSTART;TZID=Europe/London:20241102T140000
DTEND;TZID=Europe/London:20241102T160000
DTSTAMP:20260419T172059
CREATED:20231114T174653Z
LAST-MODIFIED:20231114T174653Z
UID:11997-1730556000-1730563200@midland-ancestors.uk
SUMMARY:Birmingham: The Mourning Brooch
DESCRIPTION:The Mourning Brooch\nSpeaker: Jean Renwick\nJean Renwick’s talk reveals years of research behind her family saga\, The Mourning Brooch\, based upon the lives of real Yorkshire people who lived in the second half of the 19th and first half of the 20th century. After inheriting a mourning brooch\, Jean was intrigued to know who was Elizabeth Addy commemorated in the brooch\, and what happened to the two little girls she left behind. The novels reveal how the sisters’ lives took them in very different directions. \nUsing newspaper archives\, Jean discovered scandals\, adding drama to the tale\, and research in England and the USA revealed much about the personalities of the characters. And the story moves to London\, Liverpool\, Philadelphia – even Constantinople – all based on fact. Finally\, she will explain how she handles the gaps in knowledge and will report on progress in writing the last part of the saga. \nDo you have a piece of mourning jewellery?  Bring it to the meeting and share what you know of its history. \nJean Renwick was brought up in the West Midlands and went to school in Tettenhall\, Wolverhampton.  After retirement\, she achieved a Masters in History of Art at the University of Warwick and then embarked upon a second career as a novelist.
URL:https://midland-ancestors.uk/event/birmingham-the-mourning-brooch/
LOCATION:Birmingham & Midland Institute\, 9 Margaret Street\, Birmingham\, West Midlands\, B3 3BS\, United Kingdom
CATEGORIES:Birmingham Meetings,Public
ORGANIZER;CN="Peter Middleton":MAILTO:p.middleton@mid-anc.uk
END:VEVENT
BEGIN:VEVENT
DTSTART;TZID=Europe/London:20241104T193000
DTEND;TZID=Europe/London:20241104T213000
DTSTAMP:20260419T172059
CREATED:20231207T113418Z
LAST-MODIFIED:20241204T132959Z
UID:12174-1730748600-1730755800@midland-ancestors.uk
SUMMARY:North Staffs Branch - Talk
DESCRIPTION:Talk “Etruria Bone Mill” Speaker Bernard Lovatt
URL:https://midland-ancestors.uk/event/north-staffs-branch-2024-06-03-2024-11-04/
LOCATION:St. John’s Centre\, St. John’s Centre\, 122 Newcastle Rd. Trent Vale\, Stoke on Trent\, ST4 6QD\, United Kingdom
CATEGORIES:North Staffs Meetings
END:VEVENT
BEGIN:VEVENT
DTSTART;TZID=Europe/London:20241113T193000
DTEND;TZID=Europe/London:20241113T210000
DTSTAMP:20260419T172059
CREATED:20240913T093407Z
LAST-MODIFIED:20240913T093407Z
UID:14728-1731526200-1731531600@midland-ancestors.uk
SUMMARY:Kenilworth: Researching Irish Ancestry (LIVE)
DESCRIPTION:Speaker: Paul Wilkins \nPaul is the founder of The Family Tree Tracers\,Dorector of Family History Detectives and delivers family history courses at WCRO as well as giving talks and teaching genealogy\, and writing for WDYTYA? Magazine
URL:https://midland-ancestors.uk/event/kenilworth-researching-irish-ancestry-live/
LOCATION:Kenilworth Centre\, Abbey End\, Kenilworth\, CV8 1QJ\, Abbey End\, Kenilworth\, CV8 1QJ\, United Kingdom
CATEGORIES:Kenilworth Meetings
ORGANIZER;CN="Lesley Plant":MAILTO:kenilworthfhs@gmail.com
END:VEVENT
BEGIN:VEVENT
DTSTART;TZID=Europe/London:20241119T193000
DTEND;TZID=Europe/London:20241119T210000
DTSTAMP:20260419T172059
CREATED:20231124T124251Z
LAST-MODIFIED:20240216T181253Z
UID:12065-1732044600-1732050000@midland-ancestors.uk
SUMMARY:Stourbridge Group - Social Evening with refreshments
DESCRIPTION:Social Evening with refreshments\nThis the final event of the year for Midland Ancestors members only.
URL:https://midland-ancestors.uk/event/social-evening-with-refreshments/
LOCATION:Stourbridge\, St. Peter's Church Hall\, Pedmore\, West Midlands\, DY9 0SW\, United Kingdom
CATEGORIES:Public,Stourbridge Meetings
ORGANIZER;CN="Paul Burkitt":MAILTO:p.burkitt@mid-anc.uk
END:VEVENT
BEGIN:VEVENT
DTSTART;TZID=Europe/London:20241127T193000
DTEND;TZID=Europe/London:20241127T210000
DTSTAMP:20260419T172059
CREATED:20231025T164641Z
LAST-MODIFIED:20231025T164641Z
UID:11926-1732735800-1732741200@midland-ancestors.uk
SUMMARY:Wolverhampton:  12 Days of Christmas again!
DESCRIPTION:This is the last meeting of 2024 for the Wolverhampton group so will have a Christmas theme with seasonal nibbles (bring your own soft drink – it will not be checked!) \nAt the moment the current plan is that Penny will provide a presentation of websites that you may wish to explore over the festive season all designed to help you explore new records from the comfort of your own home.   For Wolverhampton regulars this is not a repeat of either of the last two years but will include completely new websites that are useful for family history research.  Please check back nearer the time in case there is a change to this plan. \nWe will also be revealing the Wolverhampton group programme for 2025 \nDoors open at 7.15 p.m. for a 7.30 p.m. meeting start \n  \n 
URL:https://midland-ancestors.uk/event/wolverhampton-12-days-of-christmas-again/
LOCATION:Wolverhampton\, The Terry Harding Room\, Perton Civic Centre\, Church Road\, Perton\,\, Wolverhampton\, Staffordshire\, WV6 7PD\, United Kingdom
CATEGORIES:Public,Wolverhampton Meetings
ORGANIZER;CN="Claire Bullock":MAILTO:clairebullock706@btinternet.com
END:VEVENT
END:VCALENDAR