BEGIN:VCALENDAR
VERSION:2.0
PRODID:-//Midland Ancestors - ECPv6.15.15//NONSGML v1.0//EN
CALSCALE:GREGORIAN
METHOD:PUBLISH
X-WR-CALNAME:Midland Ancestors
X-ORIGINAL-URL:https://midland-ancestors.uk
X-WR-CALDESC:Events for Midland Ancestors
REFRESH-INTERVAL;VALUE=DURATION:PT1H
X-Robots-Tag:noindex
X-PUBLISHED-TTL:PT1H
BEGIN:VTIMEZONE
TZID:Europe/London
BEGIN:DAYLIGHT
TZOFFSETFROM:+0000
TZOFFSETTO:+0100
TZNAME:BST
DTSTART:20230326T010000
END:DAYLIGHT
BEGIN:STANDARD
TZOFFSETFROM:+0100
TZOFFSETTO:+0000
TZNAME:GMT
DTSTART:20231029T010000
END:STANDARD
BEGIN:DAYLIGHT
TZOFFSETFROM:+0000
TZOFFSETTO:+0100
TZNAME:BST
DTSTART:20240331T010000
END:DAYLIGHT
BEGIN:STANDARD
TZOFFSETFROM:+0100
TZOFFSETTO:+0000
TZNAME:GMT
DTSTART:20241027T010000
END:STANDARD
BEGIN:DAYLIGHT
TZOFFSETFROM:+0000
TZOFFSETTO:+0100
TZNAME:BST
DTSTART:20250330T010000
END:DAYLIGHT
BEGIN:STANDARD
TZOFFSETFROM:+0100
TZOFFSETTO:+0000
TZNAME:GMT
DTSTART:20251026T010000
END:STANDARD
END:VTIMEZONE
BEGIN:VEVENT
DTSTART;TZID=Europe/London:20241005T101500
DTEND;TZID=Europe/London:20241005T120000
DTSTAMP:20260419T154438
CREATED:20231209T162214Z
LAST-MODIFIED:20231209T162214Z
UID:12235-1728123300-1728129600@midland-ancestors.uk
SUMMARY:London: Members Day: “The Ancestor I would most like to meet”
DESCRIPTION:Members Day: “The Ancestor I would most like to meet”\nThis is an opportunity for members to pick out an ancestor that for whatever reason they would like to meet.  Was it a notable person\, someone who was a rogue or even someone who went missing?  All of our ancestors will have a story or two to tell that we would never discover. \nMeetings will be held at Wesley’s Chapel and Leysian Mission\, 49 City Road\, London\, EC1Y 1AU. \nNon-members are very welcome. \nUnderground stations: Old Street (due to building works at Old Street\, please use subway 3) (Northern Line City Branch)\nMoorgate (Northern\, Circle and Metropolitan Lines). \nBuses: 21\, 43\, 55\, 76\, 141\, 205\, 214\, 243\, 271 \nRailway Stations: Old Street\, Moorgate\, Liverpool Street\, City ThamesLink\, Farringdon
URL:https://midland-ancestors.uk/event/london-members-day-the-ancestor-i-would-most-like-to-meet/
LOCATION:Wesley’s Chapel and Leysian Mission\, 49 City Road\, London\, EC1Y 1AU\, United Kingdom
CATEGORIES:London Meetings,Public
ORGANIZER;CN="David Kerr":MAILTO:londonevents@midanc.uk
END:VEVENT
BEGIN:VEVENT
DTSTART;TZID=Europe/London:20241005T140000
DTEND;TZID=Europe/London:20241005T160000
DTSTAMP:20260419T154438
CREATED:20231114T174242Z
LAST-MODIFIED:20241001T140440Z
UID:11995-1728136800-1728144000@midland-ancestors.uk
SUMMARY:Birmingham: Apprenticeship Indentures and Assignments and three Overseers Accounts
DESCRIPTION:Apprenticeship Indentures and Assignments and three Overseers Account\nSpeaker: Rhonda Niven\nIn this presentation we will hear about the conservation of Apprenticeship Indentures and Assignments and Overseers Account Books of Bromsgrove St Johns. This project was carried out in 2022 by Rhonda Niven\, Book and Paper Conservator at the Hive in Worcester as a result of funding provided by the Kemp Legacy fund from Midland Ancestors allowing access to documents that had previously been too fragile for Researchers to handle. \nAs Conservator\, Rhonda is responsible for the preservation and conservation of a wide range of mainly paper-based material. Originally from New Zealand\, she graduated from West Dean College\, Chichester\, with a Graduate Diploma in Conservation/Restoration of Books and Library Materials. Prior to joining the Hive team Rhonda was employed to conserve the records of Broadmoor Hospital which are held by the Berkshire Record Office. \n  \n  \n  \n 
URL:https://midland-ancestors.uk/event/birmingham-apprenticeship-indentures-and-assignments-and-three-overseers-accounts/
LOCATION:Birmingham & Midland Institute\, 9 Margaret Street\, Birmingham\, West Midlands\, B3 3BS\, United Kingdom
CATEGORIES:Birmingham Meetings,Public
ORGANIZER;CN="Peter Middleton":MAILTO:p.middleton@mid-anc.uk
END:VEVENT
BEGIN:VEVENT
DTSTART;TZID=Europe/London:20241007T193000
DTEND;TZID=Europe/London:20241007T213000
DTSTAMP:20260419T154438
CREATED:20231207T113418Z
LAST-MODIFIED:20241204T132959Z
UID:12173-1728329400-1728336600@midland-ancestors.uk
SUMMARY:North Staffs Branch - Research / Help evening
DESCRIPTION:Research/help evening
URL:https://midland-ancestors.uk/event/north-staffs-branch-2024-06-03-2024-10-07/
LOCATION:St. John’s Centre\, St. John’s Centre\, 122 Newcastle Rd. Trent Vale\, Stoke on Trent\, ST4 6QD\, United Kingdom
CATEGORIES:North Staffs Meetings
END:VEVENT
BEGIN:VEVENT
DTSTART;TZID=Europe/London:20241009T193000
DTEND;TZID=Europe/London:20241009T210000
DTSTAMP:20260419T154438
CREATED:20240105T163419Z
LAST-MODIFIED:20240105T163434Z
UID:12287-1728502200-1728507600@midland-ancestors.uk
SUMMARY:Kenilworth: 'From Lubenham to Sandy: Riches to Rags [well not quite!]' (LIVE)
DESCRIPTION:Speaker: John Frearson \nThe story of four generations of a Leicestershire Family. Great-grandfather Ashton raised cattle in Leicestershire for the London market. He had 14 children – and three brothers married three sisters. This is the story of the struggles of one branch of the family that moved to Bedfordshire in the judgemental late 19th and early 20th centuries. [Family history research based on the discovery of a house full of archival material – and extensive further research.] \nwww.johnphfrearson.co.uk \n\nThis is a LIVE meeting to be held at The Kenilworth Centre
URL:https://midland-ancestors.uk/event/kenilworth-from-lubenham-to-sandy-riches-to-rags-well-not-quite/
LOCATION:Kenilworth\, Kenilworth Centre\, Abbey End\,\, Kenilworth\, Warwickshire\, CV8 1QJ\, United Kingdom
CATEGORIES:Kenilworth Meetings
ORGANIZER;CN="Lesley Plant":MAILTO:kenilworthfhs@gmail.com
END:VEVENT
BEGIN:VEVENT
DTSTART;TZID=Europe/London:20241015T193000
DTEND;TZID=Europe/London:20241015T210000
DTSTAMP:20260419T154438
CREATED:20231124T124647Z
LAST-MODIFIED:20240216T131013Z
UID:12067-1729020600-1729026000@midland-ancestors.uk
SUMMARY:Stourbridge Group - 'The Real 'Allo 'Allo'
DESCRIPTION:‘The Real ‘Allo ‘Allo’\nA talk by John Pittwood\nThe Talk – The Real ‘Allo ‘Allo’ \n \nThis is a fascinating talk about the father of John\, also called John. John had volunteered for the RAF and had became a Lancaster bomber navigator with 207 Squadron. On the 3rd/4th May 1944\, John and the rest of his crew took off from RAF Spilsby. This was his seventh mission. They were to bomb a French military base at Mailly-le-Camp (south-east of Paris). The military camp had been taken over by the German army after the fall of France in 1940 and was being used as a panzer training camp. The target was part of the softening up process before D-Day. After bombing the target John’s aircraft was shot down by a German night fighter(s).The captain ordered the crew to bail out. John successfully bailed out and this talk tells his remarkable story how he successfully evaded captured and escaped via Spain. \n \nTypical German Nightfighter – Heinkel HE 219 \nThe Speaker \nJohn is a retired Electrical Engineer. One of his interests is photography and he is a volunteer photographer for the National Trust. John is also a Community Presenter for the RNLI\, a role he has filled for 40 years. John will donate his fee to the RNLI. \n 
URL:https://midland-ancestors.uk/event/the-real-allo-allo/
LOCATION:Stourbridge\, St. Peter's Church Hall\, Pedmore\, West Midlands\, DY9 0SW\, United Kingdom
CATEGORIES:Public,Stourbridge Meetings
ORGANIZER;CN="Paul Burkitt":MAILTO:p.burkitt@mid-anc.uk
END:VEVENT
BEGIN:VEVENT
DTSTART;TZID=Europe/London:20241030T193000
DTEND;TZID=Europe/London:20241030T210000
DTSTAMP:20260419T154438
CREATED:20231025T163351Z
LAST-MODIFIED:20231025T163502Z
UID:11922-1730316600-1730322000@midland-ancestors.uk
SUMMARY:Wolverhampton: Clive of India
DESCRIPTION:Robert Clive was born near Market Drayton in 1725 and has been widely credited for laying the foundation of the British East India Company (EIC). \nClive’s actions on behalf of the EIC have made him one of Britain’s most controversial colonial figures. His achievements included checking French imperialist ambitions on the Coromandel Coast and establishing EIC control over Bengal\, thereby furthering the establishment of the British Raj\, though he worked only as an agent of the East India Company\, not of the British government. \nOur presenter\, Max Keen\, is a lively and animated speaker who is sure to provide an entertaining evening whilst dressed in a costume of the period. \nDoors open at 7.15 pm for a meeting start time of 7.30 pm \n 
URL:https://midland-ancestors.uk/event/wolverhampton-clive-of-india-2/
LOCATION:Wolverhampton\, The Terry Harding Room\, Perton Civic Centre\, Church Road\, Perton\,\, Wolverhampton\, Staffordshire\, WV6 7PD\, United Kingdom
CATEGORIES:Public,Wolverhampton Meetings
ORGANIZER;CN="Penny Smith":MAILTO:wolverhamptonclasses@midanc.uk
END:VEVENT
END:VCALENDAR