BEGIN:VCALENDAR
VERSION:2.0
PRODID:-//Midland Ancestors - ECPv6.15.15//NONSGML v1.0//EN
CALSCALE:GREGORIAN
METHOD:PUBLISH
X-WR-CALNAME:Midland Ancestors
X-ORIGINAL-URL:https://midland-ancestors.uk
X-WR-CALDESC:Events for Midland Ancestors
REFRESH-INTERVAL;VALUE=DURATION:PT1H
X-Robots-Tag:noindex
X-PUBLISHED-TTL:PT1H
BEGIN:VTIMEZONE
TZID:Europe/London
BEGIN:DAYLIGHT
TZOFFSETFROM:+0000
TZOFFSETTO:+0100
TZNAME:BST
DTSTART:20240331T010000
END:DAYLIGHT
BEGIN:STANDARD
TZOFFSETFROM:+0100
TZOFFSETTO:+0000
TZNAME:GMT
DTSTART:20241027T010000
END:STANDARD
BEGIN:DAYLIGHT
TZOFFSETFROM:+0000
TZOFFSETTO:+0100
TZNAME:BST
DTSTART:20250330T010000
END:DAYLIGHT
BEGIN:STANDARD
TZOFFSETFROM:+0100
TZOFFSETTO:+0000
TZNAME:GMT
DTSTART:20251026T010000
END:STANDARD
BEGIN:DAYLIGHT
TZOFFSETFROM:+0000
TZOFFSETTO:+0100
TZNAME:BST
DTSTART:20260329T010000
END:DAYLIGHT
BEGIN:STANDARD
TZOFFSETFROM:+0100
TZOFFSETTO:+0000
TZNAME:GMT
DTSTART:20261025T010000
END:STANDARD
END:VTIMEZONE
BEGIN:VEVENT
DTSTART;TZID=Europe/London:20250924T191500
DTEND;TZID=Europe/London:20250924T210000
DTSTAMP:20260421T123233
CREATED:20241209T165942Z
LAST-MODIFIED:20241209T165942Z
UID:15372-1758741300-1758747600@midland-ancestors.uk
SUMMARY:Wolverhampton:  "Let may fate a warning be"
DESCRIPTION:Fatal Transport Accidents in the West Midlands\, 1820s – 1920s. \nA illustrated presentation which deals with curious accidents that involved the region’s stage coaches\, canals\, railways and trams.  How and why these shocking events happened and who was to blame. \nJoin us for a fascinating presentation by Quintin Watt. \n  \nDoors open at 7.15 p.m. for a meeting start at 7.30 p.m. \n  \n 
URL:https://midland-ancestors.uk/event/wolverhampton-let-may-fate-a-warning-be/
LOCATION:Wolverhampton\, The Terry Harding Room\, Perton Civic Centre\, Church Road\, Perton\,\, Wolverhampton\, Staffordshire\, WV6 7PD\, United Kingdom
CATEGORIES:Public,Wolverhampton Meetings
ORGANIZER;CN="Penny Smith":MAILTO:wolverhamptonclasses@midanc.uk
END:VEVENT
END:VCALENDAR