BEGIN:VCALENDAR
VERSION:2.0
PRODID:-//Midland Ancestors - ECPv6.15.15//NONSGML v1.0//EN
CALSCALE:GREGORIAN
METHOD:PUBLISH
X-ORIGINAL-URL:https://midland-ancestors.uk
X-WR-CALDESC:Events for Midland Ancestors
REFRESH-INTERVAL;VALUE=DURATION:PT1H
X-Robots-Tag:noindex
X-PUBLISHED-TTL:PT1H
BEGIN:VTIMEZONE
TZID:Europe/London
BEGIN:DAYLIGHT
TZOFFSETFROM:+0000
TZOFFSETTO:+0100
TZNAME:BST
DTSTART:20230326T010000
END:DAYLIGHT
BEGIN:STANDARD
TZOFFSETFROM:+0100
TZOFFSETTO:+0000
TZNAME:GMT
DTSTART:20231029T010000
END:STANDARD
BEGIN:DAYLIGHT
TZOFFSETFROM:+0000
TZOFFSETTO:+0100
TZNAME:BST
DTSTART:20240331T010000
END:DAYLIGHT
BEGIN:STANDARD
TZOFFSETFROM:+0100
TZOFFSETTO:+0000
TZNAME:GMT
DTSTART:20241027T010000
END:STANDARD
BEGIN:DAYLIGHT
TZOFFSETFROM:+0000
TZOFFSETTO:+0100
TZNAME:BST
DTSTART:20250330T010000
END:DAYLIGHT
BEGIN:STANDARD
TZOFFSETFROM:+0100
TZOFFSETTO:+0000
TZNAME:GMT
DTSTART:20251026T010000
END:STANDARD
END:VTIMEZONE
BEGIN:VEVENT
DTSTART;TZID=Europe/London:20240701T193000
DTEND;TZID=Europe/London:20240701T213000
DTSTAMP:20260421T153919
CREATED:20231207T113418Z
LAST-MODIFIED:20241204T132959Z
UID:12170-1719862200-1719869400@midland-ancestors.uk
SUMMARY:North Staffs Branch - Talk
DESCRIPTION:Talk “Crimson Fields ” Story of Nurses & Surgeons who served on the front line in the Great War 1914-18 Speaker David Bardell
URL:https://midland-ancestors.uk/event/north-staffs-branch-2024-06-03-2024-07-01/
LOCATION:St. John’s Centre\, St. John’s Centre\, 122 Newcastle Rd. Trent Vale\, Stoke on Trent\, ST4 6QD\, United Kingdom
CATEGORIES:North Staffs Meetings
END:VEVENT
BEGIN:VEVENT
DTSTART;TZID=Europe/London:20240706T101500
DTEND;TZID=Europe/London:20240706T120000
DTSTAMP:20260421T153919
CREATED:20231209T161809Z
LAST-MODIFIED:20231223T132816Z
UID:12232-1720260900-1720267200@midland-ancestors.uk
SUMMARY:London: "The Friend’s Ambulance Service in World War One”
DESCRIPTION:“The Friend’s Ambulance Service in World War One”\nA talk by Paul Handford\, plus a visit to St John’s Museum and garden in the afternoon (free) for those interested.  We can arrange a free introductory speaker if there are sufficient numbers. \nPaul Handford MBE will be talking on the experiences of those individuals\, who for conscience and other reasons\, chose to serve in the non-combatant Friends’ Ambulance Unit during World War I. The talk is supported by many original photographs from his private collection. \nMeetings will be held at Wesley’s Chapel and Leysian Mission\, 49 City Road\, London\, EC1Y 1AU. \nNon-members are very welcome. \nUnderground stations: Old Street (due to building works at Old Street\, please use subway 3) (Northern Line City Branch)\nMoorgate (Northern\, Circle and Metropolitan Lines). \nBuses: 21\, 43\, 55\, 76\, 141\, 205\, 214\, 243\, 271 \nRailway Stations: Old Street\, Moorgate\, Liverpool Street\, City ThamesLink\, Farringdon
URL:https://midland-ancestors.uk/event/london-the-friends-ambulance-service-in-world-war-one/
LOCATION:Wesley’s Chapel and Leysian Mission\, 49 City Road\, London\, EC1Y 1AU\, United Kingdom
CATEGORIES:London Meetings,Public
ORGANIZER;CN="David Kerr":MAILTO:londonevents@midanc.uk
END:VEVENT
BEGIN:VEVENT
DTSTART;TZID=Europe/London:20240706T140000
DTEND;TZID=Europe/London:20240706T160000
DTSTAMP:20260421T153919
CREATED:20231109T110337Z
LAST-MODIFIED:20231115T090114Z
UID:11986-1720274400-1720281600@midland-ancestors.uk
SUMMARY:Birmingham: The Wednesbury Workhouse and the Parish Poor
DESCRIPTION:The Wednesbury Workhouse and the Parish Poor 1750 – 1900\nPresenter Keith Robinson\nKeiths talk will tell the the stories of people whose voices are often unheard. It will reveal the lives of those who were in the Wednesbury Workhouse and in that of neighbouring West Bromwich. It will look at the children who were indentured as parish apprentices\, the people who claimed outdoor relief and the men women and children who tried to claim settlement in the town. Why had they fallen on hard times? What became of them? The presentation will reveal some astonishing stories that take us all over the Black Country\, the U.K. and the world. \nKeith is a local historian and has written a number of books on the Black Country\, he is Vice Chair of the Black Country Society and well known on the local speakers circuit. Keith grew up in Wednesbury.
URL:https://midland-ancestors.uk/event/birmingham-the-wednesbury-workhouse-and-the-parish-poor/
LOCATION:Birmingham & Midland Institute\, 9 Margaret Street\, Birmingham\, West Midlands\, B3 3BS\, United Kingdom
CATEGORIES:Birmingham Meetings,Public
ORGANIZER;CN="Peter Middleton":MAILTO:p.middleton@mid-anc.uk
END:VEVENT
BEGIN:VEVENT
DTSTART;TZID=Europe/London:20240710T193000
DTEND;TZID=Europe/London:20240710T210000
DTSTAMP:20260421T153919
CREATED:20240105T163654Z
LAST-MODIFIED:20240105T163654Z
UID:12290-1720639800-1720645200@midland-ancestors.uk
SUMMARY:Kenilworth: Summer Social (LIVE)
DESCRIPTION:Further detail to be confirmed
URL:https://midland-ancestors.uk/event/kenilworth-summer-social-live/
LOCATION:Kenilworth\, Kenilworth Centre\, Abbey End\,\, Kenilworth\, Warwickshire\, CV8 1QJ\, United Kingdom
CATEGORIES:Kenilworth Meetings
ORGANIZER;CN="Lesley Plant":MAILTO:kenilworthfhs@gmail.com
END:VEVENT
BEGIN:VEVENT
DTSTART;TZID=Europe/London:20240713T100000
DTEND;TZID=Europe/London:20240713T160000
DTSTAMP:20260421T153919
CREATED:20240217T184013Z
LAST-MODIFIED:20240529T100752Z
UID:12473-1720864800-1720886400@midland-ancestors.uk
SUMMARY:Heritage Event – Local & Family History Fair
DESCRIPTION:Midland Ancestors own Heritage Event\nAfter previous successful events\, Midland Ancestors will again be hosting their Heritage Event\, \nThe Birmingham Local and Family History Fair\nWith 35+ tables this community focussed event for Birmingham will feature not for profit local groups\, history groups and genealogy groups\, specialist interest groups\, small commercials for postcards\, photographs\, memorabilia\, books\, local artwork\, souvenirs and military interest. It will enable them all to show case their work to the general public and local community. \n\nNew venue –\nThe Main Hall King Edward VI High School for Girls\, Edgbaston Park Road\, Bham B15 2UB\nSaturday 13th July 2024 10:00 – 4:00\n  \nLocal groups who have an interest in attending are encouraged to do so. For further information or a booking form please email historyfair@midanc.uk \nTo download a flyer click on the image at right \n  \nThe Fair has a dedicated website – www.birminghamhistoryfair.uk \nPay on the Door or get Advance Tickets through Eventbrite \n 
URL:https://midland-ancestors.uk/event/heritage-event-local-family-history-fair-3/
LOCATION:King Edward VI High School for Girls\, Edgbaston Park Road\, Birmingham\, B15 2UB
CATEGORIES:Fairs,Public
ORGANIZER;CN="PJ Lamb":MAILTO:pjlamb@mid-anc.uk
END:VEVENT
BEGIN:VEVENT
DTSTART;TZID=Europe/London:20240723T193000
DTEND;TZID=Europe/London:20240723T210000
DTSTAMP:20260421T153919
CREATED:20231124T123038Z
LAST-MODIFIED:20240616T173051Z
UID:12057-1721763000-1721768400@midland-ancestors.uk
SUMMARY:Stourbridge Group - Summer Evening visit to Claverley Church
DESCRIPTION:Summer Evening visit to Claverley Church\n\nThe Visit to \nAll Saints Church is in the village of Claverley\, Shropshire\, England. It is an active Anglican parish church in the deanery of Bridgnorth\, the archdeaconry of Ludlow\, and the diocese of Hereford. The church is recorded in the National Heritage List for England as a designated Grade I listed building. \nThe church can trace its origins back to the 7th century. The present church was founded by Roger de Montgomerie\, 1st Earl of Shrewsbury\, who died in 1094. The tower was doubled in height and angle buttresses were added to it towards the end of the 15th century. At about the same time the north chapel was added. In 1902 the top two stages of the tower were rebuilt\, faithfully copying the original design\, by W. Wood Bethell. \n\nGuide: The Rev Garry Ward MA\nCourtesy of Shropshire Star\nYour guide will Rev Garry Ward whose favourite lager is called ‘Hell\,” He works part time in a local pub to raise funds for the church. The lager’s name has nothing to do with the flames of eternal damnation\, but a German word that means ‘blonde’ or ‘bright’ and describes the type of brew. \nBefore being “called” to a life in the clergy Mr Ward worked as a midwife at Walsall Manor Hospital\, delivering babies for 10 years. He was also a prison officer at the former Winson Green Prison\, now HM Prison Birmingham. \n  \n  \n  \nHow to go on the visit \nPlease register your interest in the visit by emailing p.burkitt@mid-anc.uk \nThe cost of the visit is £5 per person (MA members and Non Members). We need to gauge the number of visitors as early as possible \nPayment should be made to \nBANK: NatWest \nAccount Name: BMSGH Stourbridge Branch \nAccount Number: 45552029 \nSort Code: 6o-20-48
URL:https://midland-ancestors.uk/event/summer-evening-visit-to-claverley-church/
LOCATION:Claverley Church\, Church Street\, Claverley\, WV5 7DP
CATEGORIES:Public,Stourbridge Meetings
ORGANIZER;CN="Paul Burkitt":MAILTO:p.burkitt@mid-anc.uk
END:VEVENT
BEGIN:VEVENT
DTSTART;TZID=Europe/London:20240731T193000
DTEND;TZID=Europe/London:20240731T210000
DTSTAMP:20260421T153920
CREATED:20231025T155957Z
LAST-MODIFIED:20240816T100533Z
UID:11917-1722454200-1722459600@midland-ancestors.uk
SUMMARY:Wolverhampton:  Human Archeology and are you really who you think you are?
DESCRIPTION:CHANGE TO ORIGINAL PLANNED MEETING \nWe now have a talk from one of our own group members\, Joy Petit-Gittos\, entitled Human Archeology and are you really who you think you are? \nThis is about our journey into the past and the need to go further to find the truth!\nIt will show that we don’t always know who we really are when we uncover (excavate) the first few generations of genealogical records and is based on personal experience of researching over 300 years of the Petit family.\nDoors open at 7.15 p.m. for a 7.30 p.m. meeting start
URL:https://midland-ancestors.uk/event/wolverhampton-members-evening-climbing-brick-walls/
LOCATION:Wolverhampton\, The Terry Harding Room\, Perton Civic Centre\, Church Road\, Perton\,\, Wolverhampton\, Staffordshire\, WV6 7PD\, United Kingdom
CATEGORIES:Public,Wolverhampton Meetings
ORGANIZER;CN="Claire Bullock":MAILTO:clairebullock706@btinternet.com
END:VEVENT
END:VCALENDAR