BEGIN:VCALENDAR
VERSION:2.0
PRODID:-//Midland Ancestors - ECPv6.15.15//NONSGML v1.0//EN
CALSCALE:GREGORIAN
METHOD:PUBLISH
X-WR-CALNAME:Midland Ancestors
X-ORIGINAL-URL:https://midland-ancestors.uk
X-WR-CALDESC:Events for Midland Ancestors
REFRESH-INTERVAL;VALUE=DURATION:PT1H
X-Robots-Tag:noindex
X-PUBLISHED-TTL:PT1H
BEGIN:VTIMEZONE
TZID:Europe/London
BEGIN:DAYLIGHT
TZOFFSETFROM:+0000
TZOFFSETTO:+0100
TZNAME:BST
DTSTART:20250330T010000
END:DAYLIGHT
BEGIN:STANDARD
TZOFFSETFROM:+0100
TZOFFSETTO:+0000
TZNAME:GMT
DTSTART:20251026T010000
END:STANDARD
BEGIN:DAYLIGHT
TZOFFSETFROM:+0000
TZOFFSETTO:+0100
TZNAME:BST
DTSTART:20260329T010000
END:DAYLIGHT
BEGIN:STANDARD
TZOFFSETFROM:+0100
TZOFFSETTO:+0000
TZNAME:GMT
DTSTART:20261025T010000
END:STANDARD
BEGIN:DAYLIGHT
TZOFFSETFROM:+0000
TZOFFSETTO:+0100
TZNAME:BST
DTSTART:20270328T010000
END:DAYLIGHT
BEGIN:STANDARD
TZOFFSETFROM:+0100
TZOFFSETTO:+0000
TZNAME:GMT
DTSTART:20271031T010000
END:STANDARD
END:VTIMEZONE
BEGIN:VEVENT
DTSTART;TZID=Europe/London:20261205T140000
DTEND;TZID=Europe/London:20261205T153000
DTSTAMP:20260425T190857
CREATED:20260329T150208Z
LAST-MODIFIED:20260329T202430Z
UID:20129-1796479200-1796484600@midland-ancestors.uk
SUMMARY:Zoom Talk on "Family Historian" software
DESCRIPTION:The December speaker for the Birmingham group online will be a representative from the makers of “Family Historian” who will demonstrate what the software is capable of and how it will assist you in keeping your records in order. \nMidland Ancestors have secured the licence from the makers of the award winning “Family Historian” software\, for the use of members only\, to transfer their paper records into a digital format that saves on space by creating a GEDCOM file to share. \nThe software can create pedigree\, fan\, descendant and waterfall charts. It will produce reports\, allow imports of photos\, videos\, sound recordings and so much more with direct links to the websites:- Find My Past and My Heritage. \nTake a look at their Video Tour
URL:https://midland-ancestors.uk/event/zoom-meeting/
LOCATION:West Midlands
CATEGORIES:Birmingham Meetings
END:VEVENT
END:VCALENDAR