BEGIN:VCALENDAR
VERSION:2.0
PRODID:-//Midland Ancestors - ECPv6.15.15//NONSGML v1.0//EN
CALSCALE:GREGORIAN
METHOD:PUBLISH
X-ORIGINAL-URL:https://midland-ancestors.uk
X-WR-CALDESC:Events for Midland Ancestors
REFRESH-INTERVAL;VALUE=DURATION:PT1H
X-Robots-Tag:noindex
X-PUBLISHED-TTL:PT1H
BEGIN:VTIMEZONE
TZID:Europe/London
BEGIN:DAYLIGHT
TZOFFSETFROM:+0000
TZOFFSETTO:+0100
TZNAME:BST
DTSTART:20250330T010000
END:DAYLIGHT
BEGIN:STANDARD
TZOFFSETFROM:+0100
TZOFFSETTO:+0000
TZNAME:GMT
DTSTART:20251026T010000
END:STANDARD
BEGIN:DAYLIGHT
TZOFFSETFROM:+0000
TZOFFSETTO:+0100
TZNAME:BST
DTSTART:20260329T010000
END:DAYLIGHT
BEGIN:STANDARD
TZOFFSETFROM:+0100
TZOFFSETTO:+0000
TZNAME:GMT
DTSTART:20261025T010000
END:STANDARD
BEGIN:DAYLIGHT
TZOFFSETFROM:+0000
TZOFFSETTO:+0100
TZNAME:BST
DTSTART:20270328T010000
END:DAYLIGHT
BEGIN:STANDARD
TZOFFSETFROM:+0100
TZOFFSETTO:+0000
TZNAME:GMT
DTSTART:20271031T010000
END:STANDARD
END:VTIMEZONE
BEGIN:VEVENT
DTSTART;TZID=Europe/London:20261125T193000
DTEND;TZID=Europe/London:20261125T211500
DTSTAMP:20260425T191036
CREATED:20251119T164254Z
LAST-MODIFIED:20251130T171137Z
UID:19030-1795635000-1795641300@midland-ancestors.uk
SUMMARY:Wolverhampton:  Christmas Presentation
DESCRIPTION:Join the Wolverhampton group for its last meeting of 2026 when we will enjoy a social gathering\, with light refreshments\, and a Christmas themed presentation. \nDetails of the presentation will be announced nearer to the event. \nMembers and visitors always welcome.
URL:https://midland-ancestors.uk/event/wolverhampton-christmas-presentation/
LOCATION:Wolverhampton\, The Terry Harding Room\, Perton Civic Centre\, Church Road\, Perton\,\, Wolverhampton\, Staffordshire\, WV6 7PD\, United Kingdom
CATEGORIES:Public,Wolverhampton Meetings
ORGANIZER;CN="Penny Smith":MAILTO:wolverhamptonclasses@midanc.uk
END:VEVENT
END:VCALENDAR