BEGIN:VCALENDAR
VERSION:2.0
PRODID:-//Midland Ancestors - ECPv6.15.15//NONSGML v1.0//EN
CALSCALE:GREGORIAN
METHOD:PUBLISH
X-WR-CALNAME:Midland Ancestors
X-ORIGINAL-URL:https://midland-ancestors.uk
X-WR-CALDESC:Events for Midland Ancestors
REFRESH-INTERVAL;VALUE=DURATION:PT1H
X-Robots-Tag:noindex
X-PUBLISHED-TTL:PT1H
BEGIN:VTIMEZONE
TZID:Europe/London
BEGIN:DAYLIGHT
TZOFFSETFROM:+0000
TZOFFSETTO:+0100
TZNAME:BST
DTSTART:20250330T010000
END:DAYLIGHT
BEGIN:STANDARD
TZOFFSETFROM:+0100
TZOFFSETTO:+0000
TZNAME:GMT
DTSTART:20251026T010000
END:STANDARD
BEGIN:DAYLIGHT
TZOFFSETFROM:+0000
TZOFFSETTO:+0100
TZNAME:BST
DTSTART:20260329T010000
END:DAYLIGHT
BEGIN:STANDARD
TZOFFSETFROM:+0100
TZOFFSETTO:+0000
TZNAME:GMT
DTSTART:20261025T010000
END:STANDARD
BEGIN:DAYLIGHT
TZOFFSETFROM:+0000
TZOFFSETTO:+0100
TZNAME:BST
DTSTART:20270328T010000
END:DAYLIGHT
BEGIN:STANDARD
TZOFFSETFROM:+0100
TZOFFSETTO:+0000
TZNAME:GMT
DTSTART:20271031T010000
END:STANDARD
END:VTIMEZONE
BEGIN:VEVENT
DTSTART;TZID=Europe/London:20261028T193000
DTEND;TZID=Europe/London:20261028T211500
DTSTAMP:20260419T170030
CREATED:20251119T163740Z
LAST-MODIFIED:20260121T160624Z
UID:19027-1793215800-1793222100@midland-ancestors.uk
SUMMARY:Wolverhampton:  The Eccentric Dr Butter
DESCRIPTION:Join us to hear Cannock Museum’s volunteer and historical researcher for an informative talk and presentation along with items from the museum collections.  Dr. Butter\, a well known local figure\, kept a menagerie of animals and could be seen out and about around Cannock and Hednesford in his zebra drawn trap.  Find out what fate befell his fiancee\, a circus performer and hear what happened to his pet elephant. \nPresenter:  Spencer Houghton \n  \nMembers and visitors are welcome to join the Wolverhampton group for this entertaining presentation. \nDoors open at 7.15 p.m. for a 7.30 p.m. meeting start.
URL:https://midland-ancestors.uk/event/wolverhampton-the-eccentric-dr-butler/
LOCATION:Wolverhampton\, The Terry Harding Room\, Perton Civic Centre\, Church Road\, Perton\,\, Wolverhampton\, Staffordshire\, WV6 7PD\, United Kingdom
CATEGORIES:Public,Wolverhampton Meetings
ORGANIZER;CN="Claire Bullock":MAILTO:clairebullock706@btinternet.com
END:VEVENT
END:VCALENDAR