BEGIN:VCALENDAR
VERSION:2.0
PRODID:-//Midland Ancestors - ECPv6.15.15//NONSGML v1.0//EN
CALSCALE:GREGORIAN
METHOD:PUBLISH
X-WR-CALNAME:Midland Ancestors
X-ORIGINAL-URL:https://midland-ancestors.uk
X-WR-CALDESC:Events for Midland Ancestors
REFRESH-INTERVAL;VALUE=DURATION:PT1H
X-Robots-Tag:noindex
X-PUBLISHED-TTL:PT1H
BEGIN:VTIMEZONE
TZID:Europe/London
BEGIN:DAYLIGHT
TZOFFSETFROM:+0000
TZOFFSETTO:+0100
TZNAME:BST
DTSTART:20250330T010000
END:DAYLIGHT
BEGIN:STANDARD
TZOFFSETFROM:+0100
TZOFFSETTO:+0000
TZNAME:GMT
DTSTART:20251026T010000
END:STANDARD
BEGIN:DAYLIGHT
TZOFFSETFROM:+0000
TZOFFSETTO:+0100
TZNAME:BST
DTSTART:20260329T010000
END:DAYLIGHT
BEGIN:STANDARD
TZOFFSETFROM:+0100
TZOFFSETTO:+0000
TZNAME:GMT
DTSTART:20261025T010000
END:STANDARD
BEGIN:DAYLIGHT
TZOFFSETFROM:+0000
TZOFFSETTO:+0100
TZNAME:BST
DTSTART:20270328T010000
END:DAYLIGHT
BEGIN:STANDARD
TZOFFSETFROM:+0100
TZOFFSETTO:+0000
TZNAME:GMT
DTSTART:20271031T010000
END:STANDARD
END:VTIMEZONE
BEGIN:VEVENT
DTSTART;TZID=Europe/London:20260425T090000
DTEND;TZID=Europe/London:20260425T170000
DTSTAMP:20260425T015845
CREATED:20260116T193512Z
LAST-MODIFIED:20260416T094656Z
UID:19548-1777107600-1777136400@midland-ancestors.uk
SUMMARY:RQG Conference 2026
DESCRIPTION:Register of Qualified Genealogists Conference\nPlease join us at the Birmingham & Midland Institute on Saturday 25 April 2026\nfor our family history conference ‘Exploring the Past\, Embracing the Future’. \nKeynote Speakers: \nProfessor Rebecca Probert (University of Exeter) – Researching bigamy through family history records\nDr Sophie Kay (Khronicle®) – Ethics and You: a people-centred guide to genetic genealogy\nProfessor Julia Laite (Birkbeck\, University of London) – How family history can change the way we think about history (and the world) plus morning and afternoon sessions on a wide range of topics – DNA and genetics\, AI tools for genealogy\, family history projects and research. \nTickets are available via\nhttps://rqg-conference-2026.eventbrite.co.uk/\n\nOur conference is open to everyone\, including non-members.\nFurther details:- 2026 RQG Conference\n  \nThe Family History Centre in the Kingsley Norris Room will be open from 10am to 2pm.\n \n 
URL:https://midland-ancestors.uk/event/register-of-genealogists-conference/
LOCATION:Birmingham & Midland Institute\, 9 Margaret Street\, Birmingham\, West Midlands\, B3 3BS\, United Kingdom
CATEGORIES:Public
END:VEVENT
BEGIN:VEVENT
DTSTART;TZID=Europe/London:20260425T100000
DTEND;TZID=Europe/London:20260425T140000
DTSTAMP:20260425T015845
CREATED:20260416T095117Z
LAST-MODIFIED:20260418T195724Z
UID:20515-1777111200-1777125600@midland-ancestors.uk
SUMMARY:Family History Centre Open Today
DESCRIPTION:The Family History Centre in the Kingsley Norris Room is available for RQG Conference delegates during their lunch break and for any other Midland Ancestors members on Saturday 25th April from 10 am – 2 pm (not the usual opening times)
URL:https://midland-ancestors.uk/event/family-history-centre-open-today-3/
LOCATION:Birmingham & Midland Institute\, 9 Margaret Street\, Birmingham\, West Midlands\, B3 3BS\, United Kingdom
CATEGORIES:Birmingham Meetings
END:VEVENT
END:VCALENDAR