BEGIN:VCALENDAR
VERSION:2.0
PRODID:-//Midland Ancestors - ECPv6.15.15//NONSGML v1.0//EN
CALSCALE:GREGORIAN
METHOD:PUBLISH
X-ORIGINAL-URL:https://midland-ancestors.uk
X-WR-CALDESC:Events for Midland Ancestors
REFRESH-INTERVAL;VALUE=DURATION:PT1H
X-Robots-Tag:noindex
X-PUBLISHED-TTL:PT1H
BEGIN:VTIMEZONE
TZID:Europe/London
BEGIN:DAYLIGHT
TZOFFSETFROM:+0000
TZOFFSETTO:+0100
TZNAME:BST
DTSTART:20230326T010000
END:DAYLIGHT
BEGIN:STANDARD
TZOFFSETFROM:+0100
TZOFFSETTO:+0000
TZNAME:GMT
DTSTART:20231029T010000
END:STANDARD
BEGIN:DAYLIGHT
TZOFFSETFROM:+0000
TZOFFSETTO:+0100
TZNAME:BST
DTSTART:20240331T010000
END:DAYLIGHT
BEGIN:STANDARD
TZOFFSETFROM:+0100
TZOFFSETTO:+0000
TZNAME:GMT
DTSTART:20241027T010000
END:STANDARD
BEGIN:DAYLIGHT
TZOFFSETFROM:+0000
TZOFFSETTO:+0100
TZNAME:BST
DTSTART:20250330T010000
END:DAYLIGHT
BEGIN:STANDARD
TZOFFSETFROM:+0100
TZOFFSETTO:+0000
TZNAME:GMT
DTSTART:20251026T010000
END:STANDARD
END:VTIMEZONE
BEGIN:VEVENT
DTSTART;TZID=Europe/London:20241207T140000
DTEND;TZID=Europe/London:20241207T160000
DTSTAMP:20260423T205323
CREATED:20231114T174901Z
LAST-MODIFIED:20231114T174901Z
UID:11999-1733580000-1733587200@midland-ancestors.uk
SUMMARY:Birmingham: The Rise and Fall of the World's Mightiest Glassmakers
DESCRIPTION:The Rise and Fall of the World’s Mightiest Glassmakers\nSpeaker: Henry Chance\nChance Brothers & Co Ltd was at one time the greatest glassmaker in the world\, and one of Smethwick’s foremost employers\, providing the glass for the Crystal Palace\, the Palace of Westminster and more than half the lighthouse lenses worldwide. It was particularly known for the way its workers were cared for\, and for the philanthropy of the firm and the directors. \nHenry Chance is descended from both brothers who founded the famous Smethwick firm\, and is the grandson of Sir Hugh Chance the last family chairman.
URL:https://midland-ancestors.uk/event/birmingham-the-rise-and-fall-of-the-worlds-mightiest-glassmakers/
LOCATION:Birmingham & Midland Institute\, 9 Margaret Street\, Birmingham\, West Midlands\, B3 3BS\, United Kingdom
CATEGORIES:Birmingham Meetings,Public
ORGANIZER;CN="Peter Middleton":MAILTO:p.middleton@mid-anc.uk
END:VEVENT
END:VCALENDAR