BEGIN:VCALENDAR
VERSION:2.0
PRODID:-//Midland Ancestors - ECPv6.15.15//NONSGML v1.0//EN
CALSCALE:GREGORIAN
METHOD:PUBLISH
X-ORIGINAL-URL:https://midland-ancestors.uk
X-WR-CALDESC:Events for Midland Ancestors
REFRESH-INTERVAL;VALUE=DURATION:PT1H
X-Robots-Tag:noindex
X-PUBLISHED-TTL:PT1H
BEGIN:VTIMEZONE
TZID:Europe/London
BEGIN:DAYLIGHT
TZOFFSETFROM:+0000
TZOFFSETTO:+0100
TZNAME:BST
DTSTART:20230326T010000
END:DAYLIGHT
BEGIN:STANDARD
TZOFFSETFROM:+0100
TZOFFSETTO:+0000
TZNAME:GMT
DTSTART:20231029T010000
END:STANDARD
BEGIN:DAYLIGHT
TZOFFSETFROM:+0000
TZOFFSETTO:+0100
TZNAME:BST
DTSTART:20240331T010000
END:DAYLIGHT
BEGIN:STANDARD
TZOFFSETFROM:+0100
TZOFFSETTO:+0000
TZNAME:GMT
DTSTART:20241027T010000
END:STANDARD
BEGIN:DAYLIGHT
TZOFFSETFROM:+0000
TZOFFSETTO:+0100
TZNAME:BST
DTSTART:20250330T010000
END:DAYLIGHT
BEGIN:STANDARD
TZOFFSETFROM:+0100
TZOFFSETTO:+0000
TZNAME:GMT
DTSTART:20251026T010000
END:STANDARD
END:VTIMEZONE
BEGIN:VEVENT
DTSTART;TZID=Europe/London:20241119T193000
DTEND;TZID=Europe/London:20241119T210000
DTSTAMP:20260419T184345
CREATED:20231124T124251Z
LAST-MODIFIED:20240216T181253Z
UID:12065-1732044600-1732050000@midland-ancestors.uk
SUMMARY:Stourbridge Group - Social Evening with refreshments
DESCRIPTION:Social Evening with refreshments\nThis the final event of the year for Midland Ancestors members only.
URL:https://midland-ancestors.uk/event/social-evening-with-refreshments/
LOCATION:Stourbridge\, St. Peter's Church Hall\, Pedmore\, West Midlands\, DY9 0SW\, United Kingdom
CATEGORIES:Public,Stourbridge Meetings
ORGANIZER;CN="Paul Burkitt":MAILTO:p.burkitt@mid-anc.uk
END:VEVENT
END:VCALENDAR