BEGIN:VCALENDAR
VERSION:2.0
PRODID:-//Midland Ancestors - ECPv6.15.15//NONSGML v1.0//EN
CALSCALE:GREGORIAN
METHOD:PUBLISH
X-WR-CALNAME:Midland Ancestors
X-ORIGINAL-URL:https://midland-ancestors.uk
X-WR-CALDESC:Events for Midland Ancestors
REFRESH-INTERVAL;VALUE=DURATION:PT1H
X-Robots-Tag:noindex
X-PUBLISHED-TTL:PT1H
BEGIN:VTIMEZONE
TZID:Europe/London
BEGIN:DAYLIGHT
TZOFFSETFROM:+0000
TZOFFSETTO:+0100
TZNAME:BST
DTSTART:20180325T010000
END:DAYLIGHT
BEGIN:STANDARD
TZOFFSETFROM:+0100
TZOFFSETTO:+0000
TZNAME:GMT
DTSTART:20181028T010000
END:STANDARD
BEGIN:DAYLIGHT
TZOFFSETFROM:+0000
TZOFFSETTO:+0100
TZNAME:BST
DTSTART:20190331T010000
END:DAYLIGHT
BEGIN:STANDARD
TZOFFSETFROM:+0100
TZOFFSETTO:+0000
TZNAME:GMT
DTSTART:20191027T010000
END:STANDARD
BEGIN:DAYLIGHT
TZOFFSETFROM:+0000
TZOFFSETTO:+0100
TZNAME:BST
DTSTART:20200329T010000
END:DAYLIGHT
BEGIN:STANDARD
TZOFFSETFROM:+0100
TZOFFSETTO:+0000
TZNAME:GMT
DTSTART:20201025T010000
END:STANDARD
END:VTIMEZONE
BEGIN:VEVENT
DTSTART;TZID=Europe/London:20190514T194500
DTEND;TZID=Europe/London:20190514T210000
DTSTAMP:20260422T111115
CREATED:20181128T010052Z
LAST-MODIFIED:20181128T010052Z
UID:6755-1557863100-1557867600@midland-ancestors.uk
SUMMARY:Bromsgrove: The Stagecoach Era
DESCRIPTION:The Stagecoach Era\nHow the stagecoach transformed our area. \nA presentation by John Butterorth
URL:https://midland-ancestors.uk/event/bromsgrove-the-stagecoach-2/
LOCATION:Bromsgrove Methodist Centre\, 19 Stratford Road\, Bromsgrove\, Worcs\, B60 1AS\, United Kingdom
ORGANIZER;CN="Linda Jones":MAILTO:bromsgroveevents@midanc.uk
END:VEVENT
END:VCALENDAR